BEGIN:VCALENDAR
VERSION:2.0
METHOD:PUBLISH
PRODID::-//Obvius//NONSGML ICal//DA
BEGIN:VEVENT
UID:5014760@www.bric.ku.dk
DESCRIPTION:Willem H. Ouwehand\, Department of Haematology\, Wellcome Sang
 er Institute\, NHS Blood and Transplant Research Group (NHSBT)\, UK.\n\nht
 tps://www.bric.ku.dk/calendar/2026/bric-seminar_23april2026/
SUMMARY:BRIC Seminar: Genomic architecture of blood cell formation - Insig
 hts from Large-Scale Genomics and AI
CATEGORIES:Seminar
LOCATION:Seminar room on 2 floor
ORGANIZER:BRIC
DTSTART:20260423T100000Z
DTSTAMP:20260423T100000Z
DTEND:20260423T110000Z
END:VEVENT
BEGIN:VEVENT
UID:5025787@www.bric.ku.dk
DESCRIPTION:Helmut Pospiech\, Universitätsklinikum Düsseldorf: "Living a
 t the edge”\, and Muthiah Bose\, Center for Genomic Medicine\, Rigshosp
 italet: "Variant to Treatment"\, are presenting in BRIC tandem seminar.\n\
 nhttps://www.bric.ku.dk/calendar/2026/bric-seminar_30april2026/
SUMMARY:BRIC Tandem Seminar
CATEGORIES:Seminar
LOCATION:Loungen on 4 floor
ORGANIZER:BRIC
DTSTART:20260430T100000Z
DTSTAMP:20260430T100000Z
DTEND:20260430T110000Z
END:VEVENT
BEGIN:VEVENT
UID:5001773@www.bric.ku.dk
DESCRIPTION:Sandra Blanco\, Cancer Research Centre (CIC) - University of S
 alamanca\, Spain\, is presenting in BRIC seminar.\n\nhttps://www.bric.ku.d
 k/calendar/2026/bric-seminar_21may2026/
SUMMARY:BRIC Seminar: Exploring the Role of the Epitranscriptome in Cancer
  
CATEGORIES:Seminar
LOCATION:Seminar room 2 floor
ORGANIZER:BRIC
DTSTART:20260521T100000Z
DTSTAMP:20260521T100000Z
DTEND:20260521T110000Z
END:VEVENT
BEGIN:VEVENT
UID:5031790@www.bric.ku.dk
DESCRIPTION:Katrin Ottersbach\, Edinburgh\, is presenting in BRIC seminar.
 \n\nhttps://www.bric.ku.dk/calendar/2026/bric-seminar_22may2026/
SUMMARY:BRIC Seminar: Understanding the developmental origin of infant leu
 kaemia
CATEGORIES:Seminar
LOCATION:Seminar room 2 floor
ORGANIZER:BRIC
DTSTART:20260522T090000Z
DTSTAMP:20260522T090000Z
DTEND:20260522T100000Z
END:VEVENT
END:VCALENDAR
